BEGIN:VCALENDAR
VERSION:2.0
PRODID:-//eventon.com NONSGML v1.0//EN
CALSCALE:GREGORIAN
METHOD:PUBLISH
BEGIN:VEVENT
UID:69ec9e58940c6
DTSTAMP:20260425T105832Z
DTSTART:20260517T220000Z
DTEND:20260517T220900Z
LOCATION:Teatro Varsovia C. Varsovia 9 116\,  Juárez\,  Cuauhtémoc
SUMMARY:Tributo a Super Mario Galaxy
DESCRIPTION:Tributo a Super Mario Galaxy\nhttps://ticketpoint.mx/evento/cua
 uthemoc-tv-tributo-a-super-mario-galaxy/
URL:https://ticketpoint.mx/evento/cuauthemoc-tv-tributo-a-super-mario-galaxy/
END:VEVENT
END:VCALENDAR