BEGIN:VCALENDAR
VERSION:2.0
PRODID:-//eventon.com NONSGML v1.0//EN
CALSCALE:GREGORIAN
METHOD:PUBLISH
BEGIN:VEVENT
UID:69eab96abef34
DTSTAMP:20260424T002930Z
DTSTART:20260523T223000Z
DTEND:20260524T003000Z
LOCATION:Auditorio Municipal de la Purísima Ma. Concepción Sánchez 113\,  La Barda\,  36404 Purísima de Bustos\,  Gto.
SUMMARY:Tributo a Luli Pampin y Lara Campos
DESCRIPTION:Tributo a Luli Pampin y Lara Campos\nhttps://ticketpoint.mx/eve
 nto/purisima-tributo-a-luli-pampin-y-lara-campos/
URL:https://ticketpoint.mx/evento/purisima-tributo-a-luli-pampin-y-lara-campos/
END:VEVENT
END:VCALENDAR