BEGIN:VCALENDAR
VERSION:2.0
PRODID:-//eventon.com NONSGML v1.0//EN
CALSCALE:GREGORIAN
METHOD:PUBLISH
BEGIN:VEVENT
UID:69ec9bf9bc30c
DTSTAMP:20260425T104825Z
DTSTART:20260524T010000Z
DTEND:20260524T055900Z
LOCATION:Teatro Varsovia C. Varsovia 9 116\,  Juárez\,  Cuauhtémoc
SUMMARY:Tributo a Timbiriche
DESCRIPTION:Tributo a Timbiriche\nhttps://ticketpoint.mx/evento/cuau-tv-tri
 buto-a-timbiriche/
URL:https://ticketpoint.mx/evento/cuau-tv-tributo-a-timbiriche/
END:VEVENT
END:VCALENDAR