BEGIN:VCALENDAR
VERSION:2.0
PRODID:-//eventon.com NONSGML v1.0//EN
CALSCALE:GREGORIAN
METHOD:PUBLISH
BEGIN:VEVENT
UID:69eb126dcaaa5
DTSTAMP:20260424T064917Z
DTSTART:20260530T223000Z
DTEND:20260531T003000Z
LOCATION:Teatro de la Ciudad San Andrés Tuxtla Calle Melchor Ocampo 115\,  Col de los Maestros\,  95730 San Andrés Tuxtla
SUMMARY:Tributo a Luli Pampin
DESCRIPTION:Tributo a Luli Pampin\nhttps://ticketpoint.mx/evento/veracruz-t
 c-tributo-a-luli-pampin/
URL:https://ticketpoint.mx/evento/veracruz-tc-tributo-a-luli-pampin/
END:VEVENT
END:VCALENDAR