BEGIN:VCALENDAR
VERSION:2.0
PRODID:-//eventon.com NONSGML v1.0//EN
CALSCALE:GREGORIAN
METHOD:PUBLISH
BEGIN:VEVENT
UID:69eb132881bdf
DTSTAMP:20260424T065224Z
DTSTART:20260516T013000Z
DTEND:20260516T020000Z
LOCATION:Centro Interactivo de la Juventud Ayuntamiento de Amecameca Pl. de la Constitucion S/N\,  Centro\,  56900 Amecameca de Juárez\,  Méx.
SUMMARY:Tributo Mario Galaxy
DESCRIPTION:Tributo Mario Galaxy\nhttps://ticketpoint.mx/evento/amecameca-t
 ributo-mario-galaxy/
URL:https://ticketpoint.mx/evento/amecameca-tributo-mario-galaxy/
END:VEVENT
END:VCALENDAR