BEGIN:VCALENDAR
VERSION:2.0
PRODID:-//eventon.com NONSGML v1.0//EN
CALSCALE:GREGORIAN
METHOD:PUBLISH
BEGIN:VEVENT
UID:69eb10c476a47
DTSTAMP:20260424T064212Z
DTSTART:20260522T230000Z
DTEND:20260523T010000Z
LOCATION:Teatro Principal de Guanajuato Zona Centro
SUMMARY:Tributo a Luli Pampin y Lara Campos
DESCRIPTION:Tributo a Luli Pampin y Lara Campos\nhttps://ticketpoint.mx/eve
 nto/guanajuato-tp-tributo-a-luli-pampin-y-lara-campos/
URL:https://ticketpoint.mx/evento/guanajuato-tp-tributo-a-luli-pampin-y-lara-campos/
END:VEVENT
END:VCALENDAR