BEGIN:VCALENDAR
VERSION:2.0
PRODID:-//eventon.com NONSGML v1.0//EN
CALSCALE:GREGORIAN
METHOD:PUBLISH
BEGIN:VEVENT
UID:69eb12923d715
DTSTAMP:20260424T064954Z
DTSTART:20260524T193000Z
DTEND:20260524T230000Z
LOCATION:Auditorio Municipal Mariano Abasolo México 110 35\,  Centro\,  37800
SUMMARY:Tributo a Luli Pampin y Lara Campos
DESCRIPTION:Tributo a Luli Pampin y Lara Campos\nhttps://ticketpoint.mx/eve
 nto/guanajuato-ama-tributo-a-luli-pampin-y-lara-campos/
URL:https://ticketpoint.mx/evento/guanajuato-ama-tributo-a-luli-pampin-y-lara-campos/
END:VEVENT
END:VCALENDAR