BEGIN:VCALENDAR
VERSION:2.0
PRODID:-//eventon.com NONSGML v1.0//EN
CALSCALE:GREGORIAN
METHOD:PUBLISH
BEGIN:VEVENT
UID:69e9cb688d9c1
DTSTAMP:20260423T073400Z
DTSTART:20260425T023000Z
DTEND:20260425T040000Z
LOCATION:Arena Neza Av. Carmelo Pérez 368\,  Villada\,  57710 Nezahualcóyotl\,  Méx.
SUMMARY:Alto Impacto
DESCRIPTION:Alto Impacto\nhttps://ticketpoint.mx/evento/arena-neza-alto-imp
 acto/
URL:https://ticketpoint.mx/evento/arena-neza-alto-impacto/
END:VEVENT
END:VCALENDAR