BEGIN:VCALENDAR
VERSION:2.0
PRODID:-//eventon.com NONSGML v1.0//EN
CALSCALE:GREGORIAN
METHOD:PUBLISH
BEGIN:VEVENT
UID:69e9cc2238476
DTSTAMP:20260423T073706Z
DTSTART:20260601T000000Z
DTEND:20260601T055900Z
LOCATION:Teatro Fausto Vega C. Alfonso Toro s/n\,  Escuadrón 201\,  Iztapalapa\,  09060 Ciudad de México\,  CDMX
SUMMARY:La Rondalla de Saltillo de la UAAAN
DESCRIPTION:La Rondalla de Saltillo de la UAAAN\nhttps://ticketpoint.mx/eve
 nto/iztapalapa-tfv-la-rondalla-de-saltillo-de-la-uaaan/
URL:https://ticketpoint.mx/evento/iztapalapa-tfv-la-rondalla-de-saltillo-de-la-uaaan/
END:VEVENT
END:VCALENDAR