BEGIN:VCALENDAR
VERSION:2.0
PRODID:-//eventon.com NONSGML v1.0//EN
CALSCALE:GREGORIAN
METHOD:PUBLISH
BEGIN:VEVENT
UID:69e9cb8394f6b
DTSTAMP:20260423T073427Z
DTSTART:20260605T003000Z
DTEND:20260605T023000Z
LOCATION:Teatro Las Torres Cto. Circunvalación Ote. 10\,  Ciudad Satélite\,  53100 Naucalpan\,  Mex.
SUMMARY:La Obscenidad de la Carne
DESCRIPTION:La Obscenidad de la Carne\nhttps://ticketpoint.mx/evento/las-to
 rres-la-obscenidad-de-la-carne/
URL:https://ticketpoint.mx/evento/las-torres-la-obscenidad-de-la-carne/
END:VEVENT
END:VCALENDAR